BEGIN:VCALENDAR
VERSION:2.0
PRODID:-//hacksw/handcal//NONSGML v1.0//EN
BEGIN:VEVENT
UID:b3f53c4f39f8231e7b09ae1c1e8e81a3
DTSTAMP:20260421T074547Z

DTSTART:20161031T191400
DTEND:20161031T191400
SUMMARY:ΟΠΣΑ: Η Εκκλησία μέσα στη κρίση και η προσφορά της. Η Τοπική Αυτοδιοίκηση στη κρίση και η προσφορά της
DESCRIPTION:ΟΜΙΛΟΣ ΠΡΟΕΤΟΙΜΑΣΙΑΣ ΣΤΕΛΕΧΩΝ ΑΥΤΟΔΙΟΙΚΗΣΗΣ
Σκρα 14-16 Ηλιούπολη - Τ.Κ. 163 46 - Τηλ.: 210 9922.301 
 Fax: 210 9733.813
e-mail: omilosopsa@gmail.com

Π Ρ Ο Σ Κ Λ Η Σ Η

      Έχουμε την τιμή να σας προσκαλέσουμε την Δευτέρα  31/10/2016 ώρα 19.00, στην  εκδήλωση   του Ομίλου μας  , με θεματική ενότητα:

             «Η Εκκλησία μέσα στη κρίση και η προσφορά της. 
               Η Τοπική Αυτοδιοίκηση στη κρίση και η προσφορά της.»

        Θα παρουσιαστούν οι παρακάτω   εισηγήσεις:

1.	«Λόγος έμπρακτος - Πράξις Ελλόγιμος. Η Εκκλησία μέσα στη κρίση.»
Εισηγητής: Ο Πρωτοσύγκελλος της Ιεράς Αρχιεπισκοπής Αθηνών, 
                         Πανοσιολογιώτατος  Αρχιμανδρίτης π. Συμεών Βολιώτης

2.	«Η Τοπική Αυτοδιοίκηση μέσα στη κρίση. Λόγος και Πράξη για την Πόλη τον Πολίτη και το Πρόβλημα. »
Εισηγητές: α) Παύλος Καμάρας, Πρόεδρος Ένωσης Δημάρχων 
                   Αττικής, π. Δήμαρχος Πεύκης
                   β) Θεόδωρος Γεωργάκης, Αντιπρόεδρος Ένωσης 
                   Δημάρχων Αττικής, Διδάκτωρ Παντείου Πανεπιστημίου

        Η εκδήλωση  θα πραγματοποιηθεί στην αίθουσα εκδηλώσεων του   Δημοτικού Αναψυκτηρίου Άλσους Ηλιουπόλεως, «Δ.ΚΙΝΤΗΣ»

          Συντονιστής: Ο   κ.  Θεόδωρος  Γεωργάκης,  Δικηγόρος   Παρ΄ Αρείω           
                             Πάγω, π. Δήμαρχος  Ηλιούπολης  και  Πρόεδρος  του    ΟΠΣΑ     
          Παρουσιάστρια: Η κ. Άννα Παπαϊακώβου, Δικηγόρος  και Ιδρυτικό Μέλος ΟΠΣΑ
          	
                               
Η παρουσία σας θα  μας δώσει ιδιαίτερη χαρά.                                   ΓΙΑ ΤΟΝ ΟΜΙΛΟ
Η είσοδος είναι ελεύθερη                                                                      Ο ΠΡΟΕΔΡΟΣ
                                                                                                  ΘΕΟΔΩΡΟΣ ΓΕΩΡΓΑΚΗΣ

LOCATION:Ύδρας 3, Ηλιούπολη 163 45, Ελλάδα
END:VEVENT

END:VCALENDAR
