BEGIN:VCALENDAR
VERSION:2.0
PRODID:-//hacksw/handcal//NONSGML v1.0//EN
BEGIN:VEVENT
UID:1d7150558d00427e1c0f452b9cc458b9
DTSTAMP:20260421T074739Z

DTSTART:20161022T040000
DTEND:20161022T050000
SUMMARY:70 ΧΡΟΝΙΑ ΑΠΟ ΤΗΝ ΙΔΡΥΣΗ ΤΟΥ ΔΣΕ
DESCRIPTION:ΑΥΤΗ ΕΙΝΑΙ Η ΙΣΤΟΡΙΑ ΜΑΣ ΔΙΔΑΣΟΜΑΣΤΕ
ΕΚΔΗΛΩΣΗ - ΠΑΡΟΥΣΙΑΣΗ της Διακήρυξης της ΚΕ του ΚΚΕ για τα
70 ΧΡΟΝΙΑ
ΑΠΟ ΤΗΝ ΙΔΡΥΣΗ ΤΟΥ ΔΣΕ
Το Σάββατο 22/10/2016 στις 6:30 μμ στο Θέτρο του Δημαρχείου Ηλιούπολης
Στην εκδήλωση θα τιμηθούν ζώντες μαχητές του ΔΣΕ και θα γίνει παρουσίαση του λευκώματος
"Φωτογραφίζοντας το Δημοκρατικό Στρατό Ελλάδας"
Διοργάνωση από τις Κ.Ο. Ηλιούπολης του ΚΚΕ & Παράρτημα Ηλιούπολης ΠΕΑΕΑ-ΔΣΕ
LOCATION:
END:VEVENT

END:VCALENDAR
