BEGIN:VCALENDAR
VERSION:2.0
PRODID:-//hacksw/handcal//NONSGML v1.0//EN
BEGIN:VEVENT
UID:4cf6813f186891cf031989e209183eb7
DTSTAMP:20260421T074739Z

DTSTART:20161022T073000
DTEND:20161022T073000
SUMMARY:κουιντέτο ΑΘΗΝΑΪΚΗΣ ΜΑΝΤΟΛΙΝΑΤΑΣ Ν. ΛΑΒΔΑΣ
DESCRIPTION:
To ΔΙΚΤΥΟ ΑΛΛΗΛΕΓΓΥΗΣ ΗΛΙΟΥ-πόλις,
παρουσιάζει το Σάββατο 22 Οκτωβρίου και ώρα 7,30 μ.μ. στο Μουσείο Εθνικής Αντίστασης, το κουιντέτο της ΑΘΗΝΑΙΚΗΣ ΜΑΝΤΟΛΙΝΑΤΑΣ Ν.ΛΑΒΔΑΣ.
Τραγούδι Ιωάννα Φόρτη.

Η είσοδος με προσφορά τροφίμων μακράς διαρκείας.

LOCATION:
END:VEVENT

END:VCALENDAR
