BEGIN:VCALENDAR
VERSION:2.0
PRODID:-//hacksw/handcal//NONSGML v1.0//EN
BEGIN:VEVENT
UID:ededd6f91c850505d8dea30c59297027
DTSTAMP:20260421T021424Z

DTSTART:20161025T150000
DTEND:20161025T150000
SUMMARY:ΖΩΝΤΑΝΗ ΣΥΝΑΥΛΙΑ ΣΕ ΑΠ' ΕΥΘΕΙΑΣ ΜΕΤΑΔΟΣΗ -ΤΡΙΤΟ ΠΡΟΓΡΑΜΜΑ ΕΡΤ
DESCRIPTION:Στη νέα σειρά απ’ ευθείας μετάδοσης ζωντανών συναυλιών που εγκαινιάζει το Τρίτο Πρόγραμμα της Ελληνικής Ραδιοφωνίας,

την Τρίτη 25 Οκτωβρίου στις 3 το μεσημέρι  από το studio C
(Τρίτο πρόγραμμα 90,9 και 95,6 στα FM)

θα ερμηνευθoύν έργα Ελλήνων συνθετών από μέλη της Συμφωνικής Ορχήστρας της ΕΡΤ σε διεύθυνση Άλκη Παναγιωτόπουλου.

Η συναυλία - εκτός από την απ' ευθείας μετάδοσή της - είναι ανοιχτή στο κοινό με ελεύθερη είσοδο (με δήλωση ονόματος - studio C, Ραδιομέγαρο Αγίας Παρασκευής).

Το πρόγραμμα της συναυλίας περιλαμβάνει τα έργα:

Έφη Μαρκουλάκη:  «Αντιχρωμίες»               		
Ιάσων Χατζημιχαήλ: «Άσκηση σε μια μόνο ένταση»  
Ελένη Σκάρκου: «Nature Sounds» 				
Ανέστης Λογοθέτης: «Population 1»  ( ερμηνευτική προσέγγιση για κουαρτέτο εγχόρδων )
Φανή Κοσώνα: «U-Turn»   

Συνεντεύξεις

Γεώργιος Πονηρίδης «Κουαρτέτο για πνευστά»  
LOCATION:Ραδιομέγαρο ΕΡΤ, Λεωφ. Μεσογείων 432, Αγ. Παρασκευή 153 42, Ελλάδα
END:VEVENT

END:VCALENDAR
