BEGIN:VCALENDAR
VERSION:2.0
PRODID:-//hacksw/handcal//NONSGML v1.0//EN
BEGIN:VEVENT
UID:973197ae3b2f7a4ec249c1c953aaa00a
DTSTAMP:20260421T021418Z

DTSTART:20161107T190000
DTEND:20161107T190000
SUMMARY:ΑΦΙΕΡΩΜΑ ΣΤΗΝ ΥΓΕΙΑ
DESCRIPTION:ΣΥΖΗΤΑΜΕ ΜΕ ΤΟΥΣ ΓΙΑΤΡΟΥΣ:
*Στρατή Παττακό Καρδιοχειρουργό
*Βλάση Πολυχρονόπουλο Πνευμονολόγο
με θέμα:
"Σύγχρονες πρακτικές για την πρόληψη και αντιμετώπιση νοσημάτων καρδιάς και πνευμόνων"
LOCATION:
END:VEVENT

END:VCALENDAR
