BEGIN:VCALENDAR
VERSION:2.0
PRODID:-//hacksw/handcal//NONSGML v1.0//EN
BEGIN:VEVENT
UID:cec82acfd78361abf5c15dd7e555e3cc
DTSTAMP:20260420T180351Z

DTSTART:20150922T000000
DTEND:20150925T000000
SUMMARY:Εβδομάδα Δωρεάν Ελέγχου PSA
DESCRIPTION:ΕΒΔΟΜΑΔΑ ΔΩΡΕΑΝ ΕΛΕΓΧΟΥ PSA

       Η Κοινωνική Υπηρεσία του Δήμου Ηλιούπολης σε συνεργασία με την Ελληνική Ουρολογική Εταιρεία και το πανελλαδικό δίκτυο διαγνωστικών ιατρείων πιστοποιημένης φροντίδας IATRICA συνδιοργανώνουν 
Εβδομάδα Δωρεάν Ελέγχου PSA
(Ολικού Ειδικού Προστατικού Αντιγόνου)
από τις 21 έως και τις 25 Σεπτεμβρίου 2015 

	Η ενέργεια υλοποιείται με αφορμή την Παγκόσμια Ημέρα κατά του Καρκίνου του Προστάτη (PCa) και απευθύνεται σε άνδρες ηλικίας 40 – 70 ετών, στους οποίους δίνεται η δυνατότητα να υποβληθούν σε δωρεάν εξέταση μέτρησης του Ολικού Ειδικού Προστατευτικού Αντιγόνου (PSA) στα διαγνωστικά ιατρεία πιστοποιημένης φροντίδας του δικτύου Iatrica. 

	Οι ενδιαφερόμενοι θα μπορούν να ενημερωθούν για την διαδικασία δωρεάν ελέγχου PSA, η οποία δεν απαιτεί προετοιμασία και γίνεται με μια απλή ολιγόλεπτη αιμοληψία, τηλεφωνικά στο 214 214 70 20 (ώρες λειτουργίας του κέντρου από τις 09.00 έως τις 18.00) ή μέσω του portal www.iatrica.gr.  

	Αφού ολοκληρωθεί ο κύκλος των εξετάσεων PCa θα ακολουθήσει εξέταση από ειδικό χειρουργό Ουρολόγο στα Κοινωνικά Ιατρεία του Δήμου Ηλιούπολης. Σχετική ανακοίνωση θα γίνει μετά τις εξετάσεις PCa. 


						 								                 				      Ο  ΑΝΤΙΔΗΜΑΡΧΟΣ 
ΚΟΙΝΩΝΙΚΗΣ ΑΛΛΗΛΕΓΓΥΗΣ
                ΧΡΗΣΤΟΣ ΓΙΑΝΝΑΚΗΣ

LOCATION:
END:VEVENT

END:VCALENDAR
