BEGIN:VCALENDAR
VERSION:2.0
PRODID:-//hacksw/handcal//NONSGML v1.0//EN
BEGIN:VEVENT
UID:b6be075018ab5286f90ca31423d844ed
DTSTAMP:20260421T074857Z

DTSTART:20161022T200000
DTEND:20161023T223000
SUMMARY:15ο ΔΗΜΟΤΙΚΟ ΣΧΟΛΕΙΟ ΗΛΙΟΥΠΟΛΗΣ ΠΟΛΙΤΙΣΤΙΚΟ ΔΙΗΜΕΡΟ
DESCRIPTION:Σαββατο 22/10, 11:00-14:30: Ημερίδα
Κυριακή 23/10 Θεατρική παράσταση
 Η θεατρική ομάδα του Μητροπολιτικού Κοινωνικού Ιατρείου Ελληνικού
παρουσιάζει την θεατρική παράσταση για μικρούς και μεγάλους
«Η μελωδία που έκανε τα αστέρια να μιλήσουν»
 του Γ. Βήχα.
ΕΙΣΟΔΟΣ ΕΛΕΥΘΕΡΗ
Όποιος θέλει μπορεί να φέρει παιδικά γάλατα/κρέμες και μη ληγμένα φάρμακα, για τις ανάγκες του ιατρείου.

LOCATION:Αλιμουντος και Θράκης, Αργυρούπολη 163 41, Ελλάδα
END:VEVENT

END:VCALENDAR
