BEGIN:VCALENDAR
VERSION:2.0
PRODID:-//hacksw/handcal//NONSGML v1.0//EN
BEGIN:VEVENT
UID:5bd56f890072f0ff63c23842cf931750
DTSTAMP:20260419T175852Z

DTSTART:20161021T200000
DTEND:20161021T200000
SUMMARY:ΤΑ ΜΑΡΤΥΡΙΚΑ ΧΩΡΙΑ ΤΗΣ ΗΠΕΙΡΟΥ
DESCRIPTION:Μία εκδήλωση από το Σύλλογο Ηπειρωτών Ηλιούπολης, αφιερωμένη στα μαρτυρικά χωριά της Ηπείρου και τη σφαγή στο Κομμένο Άρτας. 
Θα παρουσιαστεί το βιβλίο του Δημήτρη Βλαχοπάνου "Αγαπημένη μου αδελφή Αλεξ...".
Φιλική συμμετοχή οι ΛΑΛΗΤΑΔΕΣ.
LOCATION:
END:VEVENT

END:VCALENDAR
