BEGIN:VCALENDAR
VERSION:2.0
PRODID:-//hacksw/handcal//NONSGML v1.0//EN
BEGIN:VEVENT
UID:a69afcfde5cf68c426574ae59f5a47ea
DTSTAMP:20260421T021428Z

DTSTART:20161016T113000
DTEND:20161016T113000
SUMMARY:Παιδική εκδήλωση
DESCRIPTION:Το βιβλιοπωλείο Απρόβλεπτο και οι εκδόσεις Μεταίχμιο προσκαλούν τους μικρούς τους φίλους σε εκδήλωση με αφορμή το βιβλίο της Ιουλίας Κωστοπούλου "Παπαγάλος πειρατής", την Κυριακή 16 Οκτωβρίου 2016 στις 11:30 π.μ., στον χώρο του βιβλιοπωλείου.

Για παιδιά από 5 ετών

Ο γκρίζος αφρικανός παπαγάλος ήτανε ταξιδευτής μεγάλος. Είχε όμως καημό να γίνει πειρατής... Ήθελε και αυτός πειρατικό καπέλο, ασημένιο γάντζο, μαύρο κάλυμμα στο μάτι, αλλά πιο πολύ ακόμα ήθελε την αγάπη της πειρατίνας του!

Ένα πολύχρωμο και αστείο παραμύθι, που μας μαθαίνει να αγαπάμε τον εαυτό μας κι ας μην είναι πειρατής!

Βιβλιοπωλείο Απρόβλεπτο, Ρήγα Φεραίου 25 Ηλιούπολη
τηλ. 210 99 40 110, Mail: aprovleptobooks@yahoo.gr 
LOCATION:Ρήγα Φεραίου 25, Ηλιούπολη 163 43, Ελλάδα
END:VEVENT

END:VCALENDAR
