BEGIN:VCALENDAR
VERSION:2.0
PRODID:-//hacksw/handcal//NONSGML v1.0//EN
BEGIN:VEVENT
UID:57a9fe7b805a17109268317015fe4afb
DTSTAMP:20260421T021116Z

DTSTART:20161010T000000
DTEND:20161016T000000
SUMMARY:Έκθεση Ζωγραφικής Αγιογραφίας
DESCRIPTION:Έκθεση Ζωγραφικής Αγιογραφίας
LOCATION:
END:VEVENT

END:VCALENDAR
