BEGIN:VCALENDAR
VERSION:2.0
PRODID:-//hacksw/handcal//NONSGML v1.0//EN
BEGIN:VEVENT
UID:7d9151ccfa0211d89a18c12952c0893c
DTSTAMP:20260421T021117Z

DTSTART:20161016T113000
DTEND:20161016T113000
SUMMARY:Παπαγάλος Πειρατής
DESCRIPTION:Ο γκρίζος αφρικανός παπαγάλος ήτανε ταξιδευτής μεγάλος. Είχε όμως καημό να γίνει πειρατής... Ήθελε και αυτός πειρατικό καπέλο, ασημένιο γάντζο, μαύρο κάλυμμα στο μάτι, αλλά πιο πολύ ακόμα ήθελε την αγάπη της πειρατίνας του!
Ένα πολύχρωμο και αστείο παραμύθι, που μας μαθαίνει να αγαπάμε τον εαυτό μας κι ας μην είναι πειρατής!

Το βιβλιοπωλείο Απρόβλεπτο και οι εκδόσεις Μεταίχμιο προσκαλούν τους μικρούς τους φίλους σε εκδήλωση με αφορμή το βιβλίο της Ιουλίας Κωστοπούλου "Παπαγάλος πειρατής"
την Κυριακή 16 Οκτωβρίου 2016, στις 11:30 π.μ. στο χώρο του βιβλιοπωλείου.

Ελάτε να ακολουθήσουμε τον παπαγάλο στις περιπέτειές του και να συναντήσουμε εξωτικά πτηνά, κοχύλια κλειστά και μια όμορφη πειρατίνα με λαμπερά μαλλιά!


Για παιδιά από 5 ετών

Βιβλιοπωλείο Απρόβλεπτο, Ρήγα Φεραίου 25 Ηλιούπολη, τηλ. 2109940110
LOCATION:
END:VEVENT

END:VCALENDAR
