BEGIN:VCALENDAR
VERSION:2.0
PRODID:-//hacksw/handcal//NONSGML v1.0//EN
BEGIN:VEVENT
UID:99d548935fcc6dd145e5a90e8a773758
DTSTAMP:20260421T075101Z

DTSTART:20161001T073000
DTEND:20161001T073000
SUMMARY:"Τι δημοκρατία χρειαζόμαστε;" συζήτηση με αφορμή  την έκδοση του νέου βιβλίου του Δημήτρη Καλτσώνη, στο Wall Press
DESCRIPTION:Με αφορμή την έκδοση του βιβλίου "Τι είναι το κράτος; Τι δημοκρατία χρειαζόμαστε;" του Δημήτρη Καλτσώνη  
 
οι

-Νίκος Καραβέλος  (δικηγόρος, συγγραφέας)
-Θανάσης Τσακίρης (Δρ. Πολιτικής  Επιστήμης ΕΚΠΑ, μέλος ΔΣ Ελληνικής Εταιρείας Πολιτικής Επιστήμης)
 
συζητούν  με θέμα:

"Τι δημοκρατία χρειαζόμαστε;" 

(Σάββατο, 1/10/2016, 7:30 μμ στο Wall Press Cafe, Μπότσαρη 6-8, κεντρική πλατεία Ηλιούπολης)


LOCATION:
END:VEVENT

END:VCALENDAR
