BEGIN:VCALENDAR
VERSION:2.0
PRODID:-//hacksw/handcal//NONSGML v1.0//EN
BEGIN:VEVENT
UID:897db678c4979b18feb361b5c99a3d2a
DTSTAMP:20260421T082247Z

DTSTART:20160914T180000
DTEND:20160914T180000
SUMMARY:ΣΥΡΙΖΑ ΗΛΙΟΥΠΟΛΗΣ: Ο Δημοκρατικός  Δρόμος  για  το  Σοσιαλισμό
DESCRIPTION:O ΣΥΡΙΖΑ  ΗΛΙΟΥΠΟΛΗΣ
Σας  προσκαλεί     στην  εκδήλωση – συζήτηση  με  θέμα:                                                 « Ο Δημοκρατικός  Δρόμος  για  το  Σοσιαλισμό» Την  Τετάρτη  14  Σεπτεμβρίου   2016  6:00μμ                                                                    στο  Μουσείο  Εθνικής  Αντίστασης                                                                     (Μαρίνου  Αντύπα   και  Σοφοκλή  Βενιζέλου,  Ηλιούπολη).

LOCATION:Λεωφ. Μαρίνου Αντύπα και Λεωφ. Σοφοκλή Βενιζέλου, Ηλιούπολη 163 42, Ελλάδα
END:VEVENT

END:VCALENDAR
