BEGIN:VCALENDAR
VERSION:2.0
PRODID:-//hacksw/handcal//NONSGML v1.0//EN
BEGIN:VEVENT
UID:15fd5c66b33182706b4bdbf982a03e97
DTSTAMP:20260421T031738Z

DTSTART:20160909T193000
DTEND:20160911T210000
SUMMARY:ΕΚΘΕΣΗ ΖΩΓΡΑΦΙΚΗΣ
DESCRIPTION:Μετά από μια σειρά συμμετοχών σε ομαδικές εκθέσεις σε Ελλάδα και Αμερική, η Κωνσταντίνα Βασιλάκη μας συστήνεται μέσω της πρώτης της ατομικής έκθεσης Ζωγραφικής.
Βραβευμένη από τον Όμιλο Unesco για το έργος της, μας παρουσιάζει τα έργα της τα οποία  δουλεμένα με διαφορετικές τεχνικές αλλά με το χαρακτηριστικό στυλ και ύφος της Κωνσταντίνας, ταξιδεύουν τον θεατή σε έναν κόσμο μεταξύ ονείρων και συναισθημάτων.

Η έκθεση θα πραγματοποιηθεί στο Μουσείο Εθνικής Αντίστασης στην κεντρική πλατεία Ηλιούπολης και θα διαρκέσει 3 ημέρες.

Εγκαίνια: Παρασκευή, 9 Σεπτεμβρίου 2016, στις 20:00

Ωράριο λειτουργίας: Παρασκευή 18:00 – 21:00
Σαββατοκύριακο 11:00 – 13:00, 18:00 – 20:00

Είσοδος Ελεύθερη
LOCATION:Λεωφ. Μαρίνου Αντύπα και Λεωφ. Σοφοκλή Βενιζέλου, Ηλιούπολη 163 42, Ελλάδα
END:VEVENT

END:VCALENDAR
