BEGIN:VCALENDAR
VERSION:2.0
PRODID:-//hacksw/handcal//NONSGML v1.0//EN
BEGIN:VEVENT
UID:1211635fe31a1597349548b76bf6489d
DTSTAMP:20260421T021117Z

DTSTART:20160910T205900
DTEND:20160910T205900
SUMMARY:Σύλλογος Κρητών: Γιορτή Κρασιού και Πάτημα σταφυλιών
DESCRIPTION:Ο Σύλλογος Κρητών Ηλιούπολης σας προσκαλεί στις 10 Σεπτεμβρίου 2016 το βράδυ, στον γνώριμο χώρο της Πλατείας του ΙΚΑ Ηλιούπολης για να διασκεδάσουμε και να χορέψουμε με το συγκρότημα του Αντώνη Μαρτσάκη, στα πλαίσια της καθιερωμένης από το Σύλλογο μας Γιορτής του Κρασιού και το Πάτημα των σταφυλιών.Η εκδήλωση θα ξεκινήσει στις 9μμ.
Η Κρήτη γλεντά στην Ηλιούπολη. Να είμαστε όλοι εκεί..

Σύλλογος Κρητών Ηλιούπολης "Η ΚΡΗΤΗ"
Αριάδνης 10. 16345 Ηλιούπολη
210 9752447
Email: syllogoskritonilioupolis@yahoo.gr

LOCATION:
END:VEVENT

END:VCALENDAR
