BEGIN:VCALENDAR
VERSION:2.0
PRODID:-//hacksw/handcal//NONSGML v1.0//EN
BEGIN:VEVENT
UID:890c3cd9929f0f676bdba7326785dfaf
DTSTAMP:20260420T202354Z

DTSTART:20160803T210000
DTEND:20160803T210000
SUMMARY:Προβολή ταινίας: ΤΟ ΜΑΘΗΜΑ (UROK) των  Κριστίνα Γκρόζεβα  και Πέταρ Βαλτσάνοφ 
DESCRIPTION:KINHMATOΓΡΑΦΙΚΗ ΛΕΣΧΗ ΗΛΙΟΥΠΟΛΗΣ


ΤΕΤΑΡΤΗ   3/8/2016    ΣΤΙΣ 9.00 μ.μ. ΚΑΙ ΣΤΙΣ 11.00 μ.μ
ΟΨΕΙΣ ΤΟΥ ΣΥΓΧΡΟΝΟΥ ΒΑΛΚΑΝΙΚΟΥ ΚΙΝΗΜΑΤΟΓΡΑΦΟΥ

ΤΟ ΜΑΘΗΜΑ (UROK)
των  Κριστίνα Γκρόζεβα  και Πέταρ Βαλτσάνοφ  (ΒΟΥΛΓΑΡΙΑ/ΕΛΛΑΔΑ, 2014, έγχρωμη, 111΄)

Σε μία μικρή πόλη της Βουλγαρίας, η Νάντε, μία νεαρή καθηγήτρια, ψάχνει τον κλέφτη στην τάξη της για να του δώσει ένα μάθημα για το σωστό και το λάθος. Όταν θα βρεθεί υπερχρεωμένη, θα βρει το σωστό δρόμο που η ίδια δίδαξε; Το μάθημα συγχώρεσης που προσπαθεί να διδάξει μια νέα δασκάλα στα παιδιά μετατρέπεται απροσδόκητα σ’ ένα μάθημα ζωής για την ίδια. Η καθημερινότητα είναι αμείλικτη για τη Νάντε και τα οικονομικά προβλήματα θα την οδηγήσουν σε ακραίες καταστάσεις.

ΣΤΟΝ ΔΗΜΟΤΙΚΟ ΚΙΝΗΜΑΤΟΓΡΑΦΟ ΗΛΙΟΥΠΟΛΗΣ «ΜΕΛΙΝΑ ΜΕΡΚΟΥΡΗ»
(Λεωφ. Ειρήνης 50, Πλατεία Εθνικής Αντίστασης, Άνω Ηλιούπολη, λεωφορείο 237 για Άνω Ηλιούπολη από σταθμό Μετρό Δάφνης Τηλ.: 210 9937870, 210 9941199, 210 9914732, 6945405825, E-mail: info@klh.gr Ιστοσελίδα: www.klh.gr )

ΚΙΝΗΜΑΤΟΓΡΑΦΙΚΗ ΛΕΣΧΗ ΗΛΙΟΥΠΟΛΗΣ
28 ΧΡΟΝΙΑ ΔΗΜΙΟΥΡΓΙΚΗΣ ΠΑΡΟΥΣΙΑΣ

LOCATION:
END:VEVENT

END:VCALENDAR
