BEGIN:VCALENDAR
VERSION:2.0
PRODID:-//hacksw/handcal//NONSGML v1.0//EN
BEGIN:VEVENT
UID:1e2845c4478c6910a9fe540247eeda03
DTSTAMP:20260421T002920Z

DTSTART:20160727T211500
DTEND:20160727T211500
SUMMARY:Θεερινό Σινεμά από την Λαϊκή Επιτροπή
DESCRIPTION:
LOCATION:
END:VEVENT

END:VCALENDAR
