BEGIN:VCALENDAR
VERSION:2.0
PRODID:-//hacksw/handcal//NONSGML v1.0//EN
BEGIN:VEVENT
UID:0430fbd90c7f1ac15513c3a97b89fd73
DTSTAMP:20260420T180700Z

DTSTART:20150918T200000
DTEND:20150918T200000
SUMMARY:Προεκλογική συγκέντρωση "Λαϊκής Ενότητας"
DESCRIPTION:Την Παρασκευή 18 Σεπτ. στις 8:00 μμ, στο Μουσείο Εθν. Αντίστασης Ηλιούπολης, η "Λαϊκή Ενότητα" Ηλιούπολης η εκλογική συγκέντρωση στην Ηλιούπολη. 
Θα μιλήσει ο Γιάννης Τόλιος και θα χαιρετήσουν οι Ηλιουπολίτες νέοι υποψήφιοι Ιφιγένεια Βαλέντη και Γιώργος Πασσαλίδης
LOCATION:Μουσείο Εθνικής Αντίστασης, Marinou Antipa ke Eleftheriou Venizelou, Ηλιούπολη 163 41, Ελλάδα
END:VEVENT

END:VCALENDAR
