BEGIN:VCALENDAR
VERSION:2.0
PRODID:-//hacksw/handcal//NONSGML v1.0//EN
BEGIN:VEVENT
UID:f8ca8508100dfc9de7bd6e122124830d
DTSTAMP:20260419T121605Z

DTSTART:20150827T100000
DTEND:20150827T100000
SUMMARY:Λαϊκή Επιτροπή: Θερινό Σινεμά με την ταινία των αδελφών Νταρτέν "Δυο ημέρες και μια νύχτα"
DESCRIPTION:Η Λαϊκή Επιτροπή Ηλιούπολης πραγματοποιεί προβολές ταινιών τον Αύγουστο 
13/8: ‘‘Τι έχουν να δουν τα μάτια μου’’ του Θόδωρου Μαραγκού 
20/8: ‘‘Jimmy's Hall’’ του Κεν Λόουτς (Ken Loach) 
27/8: ‘‘Δυο μέρες και μια νύχτα’’ των αδελφών Νταρντέν 
LOCATION:Kalavriton, Ilioupoli 163 46, Greece
END:VEVENT

END:VCALENDAR
