BEGIN:VCALENDAR
VERSION:2.0
PRODID:-//hacksw/handcal//NONSGML v1.0//EN
BEGIN:VEVENT
UID:3cccb524a93072528b4a39bbabc4dff8
DTSTAMP:20260419T145540Z

DTSTART:20160709T210000
DTEND:20160710T013000
SUMMARY:ΛΑΪΚΟ ΓΛΕΝΤΙ ΤΗΣ Τ.Ο. ΑΝΑΤΟΛΙΚΩΝ ΣΥΝΟΙΚΙΩΝ ΤΟΥ ΚΚΕ
DESCRIPTION:ΗΤομεακή Οργάνωση Ανατολικών Συνοικιών του ΚΚΕ καλεί σε λαϊκό γλέντι με ζωντανή μουσική, το Σάββατο 9 ούλη 2016 στην πλατεία Παλαιών 
Πατρών Γερμανού (πλατεία ΙΚΑ) στην Ηλιούπολη.

Δε σκύβουμε το εφάλι!
Αγωνιζόμαστε και διασκεδάζουμε
Στηρίζουμε δυναμώνουμε το ΚΚΕ
LOCATION:
END:VEVENT

END:VCALENDAR
