BEGIN:VCALENDAR
VERSION:2.0
PRODID:-//hacksw/handcal//NONSGML v1.0//EN
BEGIN:VEVENT
UID:560ac01db151a9bde25c83a506853e18
DTSTAMP:20260420T190608Z

DTSTART:20160629T210000
DTEND:20160629T210000
SUMMARY:Προβολή ταινίας "Εφτά χρόνια φαγούρα" του Μπίλι Ουάιλντερ 
DESCRIPTION:l ΤΕΤΑΡΤΗ  29/06/2016        ΣΤΙΣ 9.00 μ.μ. ΚΑΙ ΣΤΙΣ 11.00 μ.μ
ΕΦΤΑ ΧΡΟΝΙΑ ΦΑΓΟΥΡΑ (THE SEVEN YEAR ITCH)
του Μπίλι Ουάιλντερ (ΗΠΑ, 1955, έγχρωμη, 105΄)

Απολαυστική κωμωδία του Μπίλι Ουάιλντερ (1906-2002), με τη Μέριλιν Μονρόε (1926-1962) να ξεδιπλώνει με μοναδικό τρόπο το κωμικοτραγικό αισθησιακό της ταλέντο σατιρίζοντας τον εαυτό της. Ερμηνεύει τον ρόλο της «γειτόνισσας του πάνω πατώματος», μιας ζουμερής και αθώας σεξοβόμβας που έρχεται να ταράξει την ήρεμη ζωή του Ρίτσαρντ, του οποίου η γυναίκα και ο γιος βρίσκονται σε καλοκαιρινές διακοπές. 


 ΣΤΟΝ ΔΗΜΟΤΙΚΟ ΚΙΝΗΜΑΤΟΓΡΑΦΟ ΗΛΙΟΥΠΟΛΗΣ «ΜΕΛΙΝΑ ΜΕΡΚΟΥΡΗ»
(Λεωφ. Ειρήνης 50, Πλατεία Εθνικής Αντίστασης, Άνω Ηλιούπολη, λεωφορείο 237 για Άνω Ηλιούπολη από σταθμό Μετρό Δάφνης Τηλ.: 210 9937870, 210 9941199, 210 9914732, 6945405825, E-mail: info@klh.gr Ιστοσελίδα: www.klh.gr )

ΚΙΝΗΜΑΤΟΓΡΑΦΙΚΗ ΛΕΣΧΗ ΗΛΙΟΥΠΟΛΗΣ
28 ΧΡΟΝΙΑ ΔΗΜΙΟΥΡΓΙΚΗΣ ΠΑΡΟΥΣΙΑΣ
LOCATION:
END:VEVENT

END:VCALENDAR
