BEGIN:VCALENDAR
VERSION:2.0
PRODID:-//hacksw/handcal//NONSGML v1.0//EN
BEGIN:VEVENT
UID:4bf5a448ec7d79be6052c71d1f43f9fa
DTSTAMP:20260419T130829Z

DTSTART:20160702T100000
DTEND:20160703T100000
SUMMARY:Ανταλακτικό παζάρι του Δικτύου Αλληλεγγύης ΗΛΙΟΥ-πόλις
DESCRIPTION:Το Δίκτυο Αλληλεγγύης ΗΛΙΟΥ-πόλις πραγματοποιεί Ανταλακτικό Παζάρι το Σαββατοκύριακο 2 & 3 Ιουλίου στα γραφεία μας
Ηρώς Κωνσταντοπούλου & Ηρακλείτου 1, ώρες  10,00 π.μ. έως 8,00 μ.μ.

Φέρνουμε τρόφιμα για το Δίκτυο και παίρνουμε βιβλία ,cd,dvd,διακοσμητικά,δώρα.

Η προσφορά σας είναι πολύτιμη !!

Επίσης διαθέτουμε και τα φυσικά καθαριστικά προϊόντα της ΒΙΟΜΕ, στηρίζοντας τον αγώνα των εργαζομένων να κρατήσουν το εργοστάσιο.

Σας περιμένουμε όλους !!

LOCATION:
END:VEVENT

END:VCALENDAR
