BEGIN:VCALENDAR
VERSION:2.0
PRODID:-//hacksw/handcal//NONSGML v1.0//EN
BEGIN:VEVENT
UID:ffcd3bbcd31614e2648dd1853ab70410
DTSTAMP:20260420T235040Z

DTSTART:20160629T200000
DTEND:20160629T200000
SUMMARY:ΠΟΛΙΤΙΚΗ ΕΚΔΗΛΩΣΗ Ο.Μ. ΣΥΡΙΖΑ ΗΛΙΟΥΠΟΛΗΣ
DESCRIPTION:ΠΟΛΙΤΙΚΗ ΕΚΔΗΛΩΣΗ Ο.Μ. ΣΥΡΙΖΑ ΗΛΙΟΥΠΟΛΗΣ
Τετάρτη 29 Ιουνίου και ώρα 8.00 μμ
Πλατεία Φλέμινγκ (Πλατεία Ηρώων)
Λεωφ. Ειρήνης - Ηλιούπολη

Ομιλητής
Τρύφων Αλεξιάδης
Αναπληρωτής Υπουργός Οικονομικών


LOCATION:Πλ. Φλέμινγκ, Ηλιούπολη 163 45, Ελλάδα
END:VEVENT

END:VCALENDAR
