BEGIN:VCALENDAR
VERSION:2.0
PRODID:-//hacksw/handcal//NONSGML v1.0//EN
BEGIN:VEVENT
UID:a762728b04bb2e95ca9d7899c347708d
DTSTAMP:20260419T130643Z

DTSTART:20160701T210000
DTEND:20160701T210000
SUMMARY:ΔΙΗΜΕΡΟ ΗΠΕΙΡΩΤΙΚΟ ΠΑΡΑΔΟΣΙΑΚΟ ΠΑΝΗΓΥΡΙ
DESCRIPTION:Ο Σύλλογος Ηπειρωτών Ηλιούπολης, σας προσκαλεί την Παρασκευή 1 Ιουλίου και το Σάββατο 2 Ιουλίου, στο καθιερωμένο, διήμερο πανηγύρι του.
Σας περιμένουμε να περάσουμε μαζί, δύο όμορφες, παραδοσιακές, Ηπειρώτικες βραδιές.


LOCATION:Πλ. Παλαιών Πατρών Γερμανού, Ηλιούπολη 163 46, Ελλάδα
END:VEVENT

END:VCALENDAR
