BEGIN:VCALENDAR
VERSION:2.0
PRODID:-//hacksw/handcal//NONSGML v1.0//EN
BEGIN:VEVENT
UID:c25952125a856296e74d2323a89b77c6
DTSTAMP:20260421T032400Z

DTSTART:20160626T200000
DTEND:20160626T230000
SUMMARY:Εκδήλωση - Έκθεση Φωτογραφίας Ζωγραφικής
DESCRIPTION:Από την αρχή της περσινής σχολικής χρονιάς στο Λαϊκό Φροντιστήριο ξεκίνησαν μαθήματα φωτογραφίας στους μαθητές που έδειξαν ενδιαφέρων. Η χρονιά θεωρούμε ότι πήγε πολύ καλά αφού τα παιδιά μας έδειξαν τον απαιτούμενο ζήλο που χρειάζεται μαθαίνοντας την τέχνη της φωτογραφίας. Από τα μαθήματα αυτά προέκυψαν πραγματικά φωτογραφικά αριστουργήματα που θα θέλαμε να τα μοιραστούμε με νέους και νέες της Ηλιούπολης και όχι μόνο.
Έτσι λοιπόν την Κυριακή 26 Ιουνίου 2016 η Λαϊκή Επιτροπή Ηλιούπολης διοργανώνει Εκδήλωση – Έκθεση φωτογραφίας αλλά και ζωγραφικής των μαθητών του Λαϊκού Φροντιστηρίου, στην Πλατεία Φλέμινγκ (Ηρώου).
Η εκδήλωση θα αρχίσει στις 8:οο μμ και θα περιλαμβάνει βίντεο από την διαδικασία φωτογράφισης αλλά και μουσικό πρόγραμμα με το συγκρότημά των παιδιών του Φροντιστηρίου και το hip – hop συγκρότημα Razones P.L. 

LOCATION:Πλ. Φλέμινγκ, Ηλιούπολη 163 45, Ελλάδα
END:VEVENT

END:VCALENDAR
