BEGIN:VCALENDAR
VERSION:2.0
PRODID:-//hacksw/handcal//NONSGML v1.0//EN
BEGIN:VEVENT
UID:a3c36d786a7ebe9b837d7ffa99862889
DTSTAMP:20260419T145441Z

DTSTART:20150927T000000
DTEND:20150928T000000
SUMMARY:Στην Κύμη με το ΠΕΡΙ.ΠΟΛ.Ο
DESCRIPTION:ΣΑΒΒΑΤΟ 26 ΣΕΠΤΕΜΒΡΙΟΥ

7.00π.μ αναχώρηση από το Δημαρχείο Ηλιούπολης με κατεύθυνση την Κύμη

... 
Το πρόγραμμα περιλαμβάνει μία κυκλική πεζοπορία από Πηγή Γουρνίου -Κάστρο-Μοναστήρι Σωτήρος-Πηγή Γουρνίου. Ω.Π 3,5 -4 ώρες ,ΒΔ. Α+ ,Υ.Δ 250-300μ.

Η πορεία γίνεται σε μονοπάτι πυκνής βλάστησης κυρίως απο πλατάνια, βελανιδιές, αριές. Θα μείνει αρκετός χρόνος για κολύμπι στη θάλασσα της Κύμης, τακτοποίηση στο ξενοδοχείο, διανυκτέρευση.

ΚΥΡΙΑΚΗ 27 ΣΕΠΤΕΜΒΡΙΟΥ

θα πεζοπορήσουμε στην διαδρομή Ρέμα Καρυάς –Εφταός –Βρωμονέρα -Αγ.Κωνσταντίνος Ρέμα Καρυάς. . Ω.Π 5,5 ώρες Β.Δ Α+ έως Β, Υ.Δ 300-350 μ.

Εξαιρετική ορεινή διαδρομή σε δάση κεφαλληνιακής ελάτης, με πανύψηλα πλατάνια, βελανιδιές και άλλα .Στη διαδρομή θα συναντήσουμε πηγές καθαρού κρυστάλλινου νερού και θα απολαύσουμε τη θέα του Αιγαίου και των Σποράδων. Το μεγαλύτερο μέρος της γίνεται στη σκιά των δέντρων. Για όσους δεν θέλουν να πεζοπορήσουν σε κάποια από αυτές τις διαδρομές ,υπάρχουν ήπιες εναλλακτικές για τις οποίες θα αναφερθούμε επί τόπου, όπως και επισκέψεις σε ενδιαφέροντες χώρους της περιοχής όπως το λαογραφικό Μουσείο, το σπίτι του ιατρού Παπανικολάου ,κ.α.

Δεν θα παραλείψουμε να εφοδιαστούμε με τη νέα σοδειά του απαράμιλλου αποξηραμένου κουμιώτικου σύκου.

Δηλώσεις συμμετοχής: Μαίρη Νταγιάντα 2105224924 -6957818001 
κόστος 70 ευρω για τα μέλη 80 για τα μη μέλη
δηλώσεις μέχρι την Πέμπτη 17/09/2015

Αρχηγός : Διονύσης Πανταζόπουλος 6944779188
LOCATION:Κύμη 340 03, Ελλάδα
END:VEVENT

END:VCALENDAR
