BEGIN:VCALENDAR
VERSION:2.0
PRODID:-//hacksw/handcal//NONSGML v1.0//EN
BEGIN:VEVENT
UID:93cc55de5fefda2669d19eaa943f3609
DTSTAMP:20260421T021046Z

DTSTART:20160624T203000
DTEND:20160624T203000
SUMMARY:Το έθιμο του κλήδονα
DESCRIPTION:ΑΝΑΚΟΙΝΩΣΗ – ΠΡΟΣΚΛΗΣΗ
Το έθιμο του κλήδονα, θεωρείται μία από τις μεγαλύτερες καλοκαιρινές γιορτές της Ελληνικής παράδοσης, που μας έρχεται από τα Ομηρικά χρόνια και σημαίνει το κλείσιμο μιας περιόδου και την έναρξη μιας άλλης.
Το Δ.Σ. του Συλλόγου μας, κλείνοντας τις δραστηριότητες του Χειμώνα για φέτος, σας καλεί την Παρασκευή 24/06/2016 και ώρα 20:30, στην πλατεία Σικελιανού, να αναβιώσουμε μαζί το έθιμο του κλήδονα, να χορέψουμε με το χορευτικό του Συλλόγου μας, να πιούμε το κρασάκι μας και να ευχηθούμε «ΚΑΛΟ ΚΑΛΟΚΑΙΡΙ».
 
                                                                                      Το Δ.Σ.
LOCATION:Πλ. Αγγέλου Σικελιανού, Ηλιούπολη 163 45, Ελλάδα
END:VEVENT

END:VCALENDAR
