BEGIN:VCALENDAR
VERSION:2.0
PRODID:-//hacksw/handcal//NONSGML v1.0//EN
BEGIN:VEVENT
UID:a9124287947829a29301a121188c1195
DTSTAMP:20260421T075020Z

DTSTART:20160611T110000
DTEND:20160611T110000
SUMMARY:Πρόσκληση για την παρουσίαση της Αναδάσωσης του Υμηττού
DESCRIPTION:O Πρόεδρος του Διοικητικού Συμβουλίου του Σ.Π.Α.Υ. και Δήμαρχος Ηλιούπολης, κ. Βασίλης Βαλασόπουλος, σας καλεί στην εκδήλωση παρουσίαση της «Μελέτης Αναδάσωσης της καμενης εκτασης από την πυρκαγιά στο όρος Υμηττού το 2015»

 Στο Θεατρο του Δημαρχείου Ηλιούπολης Σάββατο 11 Ιουνίου 2016, 11:00 πμ.

Για να δούμε το βουνό μας πιο πράσινο από πριν!
LOCATION:
END:VEVENT

END:VCALENDAR
