BEGIN:VCALENDAR
VERSION:2.0
PRODID:-//hacksw/handcal//NONSGML v1.0//EN
BEGIN:VEVENT
UID:eaf7cc738affdfe1dc081c4f0818c0ac
DTSTAMP:20260421T021152Z

DTSTART:20160624T190000
DTEND:20160626T213000
SUMMARY:Έκθεση Εργαστηρίων Τέχνης και Τεχνολογίας του IlioupolisOnline
DESCRIPTION:Σας προσκαλούμε 
- την Παρασκευή 24 Ιουνίου 7:00 μμ 
στο Μουσείο Εθνικής Αντίστασης 
στα ΕΓΚΑΙΝΙΑ ΤΗΣ ΕΚΘΕΣΗΣ ΤΩΝ ΕΡΓΑΣΤΗΡΙΩΝ ΤΕΧΝΗΣ ΚΑΙ ΤΕΧΝΟΛΟΓΙΑΣ του IlioupolisOnline (ψηφιδωτό, κεραμική, καλλιτεχνικές δημιουργίες, νέες τεχνολογίες) .
Η έκθεση θα λειτουργεί έως και Κυριακή 26 Ιουνίου ώρες 19:00 - 21:30 

LOCATION:
END:VEVENT

END:VCALENDAR
