BEGIN:VCALENDAR
VERSION:2.0
PRODID:-//hacksw/handcal//NONSGML v1.0//EN
BEGIN:VEVENT
UID:3c25e8b5a52a230502e49791c51ed55f
DTSTAMP:20260419T155252Z

DTSTART:20160622T203000
DTEND:20160622T203000
SUMMARY:Το σπίτι της Μπερνάρντα Άλμπα από το θεατρικό εργαστήρι του IlioupolisOnline
DESCRIPTION:Σας προσκαλούμε 
- την  Τετάρτη  22 Ιουνίου 8:30 μμ 
στο Θέατρο του Δημαρχιακού Μεγάρου 
στην ΠΑΡΑΣΤΑΣΗ ΤΟΥ ΘΕΑΤΡΙΚΟΥ ΕΡΓΑΣΤΗΡΙΟΥ του IlioupolisOnline με το έργο Το σπίτι της Μπερνάρντα  Άλμπα του Φεντερίκο Γκαρθία Λόρκα
Διδασκαλία: Γιώργος Αδαμαντιάδης 
Live μουσική: Άκης Δαούτης

Ελεύθερη Είσοδος
LOCATION:
END:VEVENT

END:VCALENDAR
