BEGIN:VCALENDAR
VERSION:2.0
PRODID:-//hacksw/handcal//NONSGML v1.0//EN
BEGIN:VEVENT
UID:337c008323c2f52e4d5e7bf952ba1277
DTSTAMP:20260421T032331Z

DTSTART:20160619T000000
DTEND:20160619T000000
SUMMARY: 40ο ΠΑΡΑΔΟΣΙΑΚΟ ΛΕΥΚΑΔΙΤΙΚΟ ΠΑΝΗΓΥΡΙ
DESCRIPTION:Με μεγάλη χαρά σας προσκαλούμε και φέτος να γιορτάσουμε μαζί την προστάτιδα του νησιού μας Την Παναγία την Πεφανερωμένη την Κυριακή 19 Ιουνίου. Η πανήγυρης αρχίζει στις 19:00 με Εσπερινό στον ιερό ναό της Αγίας Παρασκευής στην κάτω Ηλιούπολη. Συνεχίζουμε με αρτοκλασία και λιτάνευση της ιερής εικόνας.
Στις 21:00 στον υπαίθριο χώρο του συλλόγου θ' ακολουθήσει μεγάλο πανηγύρι με την ορχήστρα του καταπληκτικού μουσικού Αποστόλη Βαγγελάκη.
Ελάτε να τιμήσουμε την πολιούχο του νησιού μας και όλοι μαζί να περάσουμε μια όμορφη βραδιά μέσα σε οικογενειακή λευκαδίτικη ατμόσφαιρα. 
LOCATION:
END:VEVENT

END:VCALENDAR
