BEGIN:VCALENDAR
VERSION:2.0
PRODID:-//hacksw/handcal//NONSGML v1.0//EN
BEGIN:VEVENT
UID:d981c302479b5be44371c226b319cd24
DTSTAMP:20260421T023529Z

DTSTART:20160602T190000
DTEND:20160602T190000
SUMMARY:"To Mεγάλο μας Τσίρκο" από το 21ο Δημοτικό Σχολείο
DESCRIPTION:Η Θεατρική ομάδα της Στ΄ τάξης του 21ου Δημοτικού Σχολείου Ηλιούπολης, σας  προσκαλεί
 την Παρασκευή 3 Ιουνίου 2106 και ώρα 07.00 μ.μ. 
στη Θεατρική Παράσταση
" Το Μεγάλο μας Τσίρκο" του Ιάκωβου Καμπανέλλη,
 στο Θέατρο του Δημαρχιακού Μεγάρου.


LOCATION:
END:VEVENT

END:VCALENDAR
