BEGIN:VCALENDAR
VERSION:2.0
PRODID:-//hacksw/handcal//NONSGML v1.0//EN
BEGIN:VEVENT
UID:ee1e90bddee4a63e20d287340579ac5a
DTSTAMP:20260419T180546Z

DTSTART:20160612T090000
DTEND:20160612T090000
SUMMARY:51Η ΕΘΕΛΟΝΤΙΚΗ ΑΙΜΟΔΟΣΙΑ 
DESCRIPTION:
LOCATION:
END:VEVENT

END:VCALENDAR
