BEGIN:VCALENDAR
VERSION:2.0
PRODID:-//hacksw/handcal//NONSGML v1.0//EN
BEGIN:VEVENT
UID:7158108b72a1f79f4c56cc16134013b7
DTSTAMP:20260421T021554Z

DTSTART:20160602T190000
DTEND:20160602T190000
SUMMARY:Παρουσίαση των Ομάδων Δημιουργικής Απασχόλησης
DESCRIPTION:Ο Δήμος Ηλιούπολης, το Κέντρο Αγωγής Φροντίδας & Αλληλεγγύης (Κ.Α.Φ.Α.Δ.ΗΛ.) "Παύλος Πεντάρης" και τα Α'-Β'-Γ' Παραρτήματα Κοινωνικής Αλληλεγγύης, διοργανώνουν καλοκαιρινή εκδήλωση παρουσίασης των ομάδων Δημιουργικής Απασχόλησης, με θέμα το Δημοτικό Τραγούδι.
Η εκδήλωση θα πραγματοποιηθεί στο θέατρο του Δημαρχειακού Μεγάρου την Πέμπτη 2 Ιουνίου 2016 και ώρα 19:00.
Είσοδος ελεύθερη.

LOCATION:
END:VEVENT

END:VCALENDAR
