BEGIN:VCALENDAR
VERSION:2.0
PRODID:-//hacksw/handcal//NONSGML v1.0//EN
BEGIN:VEVENT
UID:8ca2de42627348cb8ff02ac15d40c0cb
DTSTAMP:20260421T092235Z

DTSTART:20160530T200000
DTEND:20160530T200000
SUMMARY:Μουσικο-Θεατρική παρουσίαση του βιβλίου cd "Μια αγκαλιά για τα παιδιά του κόσμου"
DESCRIPTION:Την Δευτέρα 30 Μαίου 2016 στις 8 το βράδυ στο Δημοτικό Θέατρο Αλσους "Δημήτρης Κιντής" Γαρδίκη & Σμόλικα στην Ηλιούπολη θα γίνει Μουσικο-Θεατρική Παρουσίαση του βιβλίου cd "Μια Αγκαλιά για τα Παιδιά του Κόσμου" σε μουσική του Χρήστου Γιαννόπουλου (δείτε το σχετ.συνημμ.Δελτίο Τύπου).
Το "ΚΙΝΗΤΡΟΝ" που στηρίζει κάθε Δράση Πολιτισμού που έχει σαν στόχο την Αλληλεγγύη συμμετέχει εμπλουτίζοντας την παρουσίαση με τους ηθοποιούς Βαγγέλη Βαροτσάκη, Μαρία Ζήση και Δέσποινα Βαροτσάκη σε θεατρικό αναλόγιο με ποιήματα των Μπ. Μπρεχτ & Νίκου Καραβέλου και κείμενο της Ελένης Ασημακοπούλου, σε σκηνοθεσία Φωτεινής Σαββατιανού.

Θα σας περιμένουμε στην είσοδο του Θεάτρου για να συλλέξουμε τρόφιμα και φάρμακα που για άλλη μια φορά θα έχετε την γενναιοδωρία να μας φέρετε ώστε να μπορέσουμε να στηρίξουμε συμπολίτες μας και όχι μόνον που έχουν την ανάγκη μας. 

Η είσοδος είναι ελεύθερη

LOCATION:
END:VEVENT

END:VCALENDAR
