BEGIN:VCALENDAR
VERSION:2.0
PRODID:-//hacksw/handcal//NONSGML v1.0//EN
BEGIN:VEVENT
UID:9d9552031dd0892795bc112a5e8c100b
DTSTAMP:20260421T074547Z

DTSTART:20160527T190000
DTEND:20160527T190000
SUMMARY:Η Τεχνική Επαγγελματική Εκπαίδευση
DESCRIPTION:ΟΜΙΛΟΣ ΠΡΟΕΤΟΙΜΑΣΙΑΣ ΣΤΕΛΕΧΩΝ ΑΥΤΟΔΙΟΙΚΗΣΗΣ
Σκρα 14-16 Ηλιούπολη - Τ.Κ. 163 46 - Τηλ.: 210 9922.301 
 Fax: 210 9733.813
e-mail: omilosopsa@gmail.com

Π Ρ Ο Σ Κ Λ Η Σ Η

      Έχουμε την τιμή να σας προσκαλέσουμε την Παρασκευή   27/05/2016 ώρα 19.00, στην       εκδήλωση   του Ομίλου μας  , με θεματική ενότητα:

                         «Η Τεχνική Επαγγελματική Εκπαίδευση και ο ρόλος της στην ανάπτυξη των Τοπικών Κοινωνιών ειδικότερα και της οικονομίας της χώρας μας γενικότερα»

        Θα παρουσιαστούν τρεις εισηγήσεις:
1.	«Η Τεχνική Επαγγελματική Εκπαίδευση κα ο ρόλος της στην ανάπτυξη και	την	οικονομία.»
Εισηγητής: Δρ Σαράντος Ψυχάρης,  Καθηγητής ΑΣΠΑΙΤΕ

2.	«Η Τεχνική Επαγγελματική Εκπαίδευση και Κατάρτιση, ως μοχλός ανάπτυξης στις τοπικές κοινωνίες»
Εισηγητής: Κωνσταντίνος   Ανδριανουπολίτης,   Εκπαιδευτικός-Ερευνητής,   Πρόεδρος ΕΕΤΕΚ

 3.   «Η ιστορία της Τεχνικής Εκπαίδευσης στην Ελλάδα»
 Εισηγητής: Χρήστος Κουτουλάκος, Διεθυντής 2ου ΕΠΑΛ Σιβιτανιδείου  Δημόσιας Σχολής Τεχνών & Επαγγελμάτων.  

 Η εκδήλωση  θα πραγματοποιηθεί στην αίθουσα εκδηλώσεων του Μουσείου Εθνικής Αντίστασης Ηλιούπολης (οδός  Σ. Βενιζέλου & Μαρ. Αντύπα)

 Συντονιστής: Ο   κ.  Θεόδωρος  Γεωργάκης,  Δικηγόρος   Παρ΄ Αρείω  Πάγω, π. Δήμαρχος  Ηλιούπολης  και  Πρόεδρος  του    ΟΠΣΑ     
 Παρουσιάστρια: Η κ. Άννα Παπαϊακώβου, Δικηγόρος  και Ιδρυτικό Μέλος ΟΠΣΑ

Η παρουσία σας θα  μας δώσει ιδιαίτερη χαρά. 
Η είσοδος είναι ελεύθερη


ΓΙΑ ΤΟΝ ΟΜΙΛΟ 
Ο ΠΡΟΕΔΡΟΣ
ΘΕΟΔΩΡΟΣ ΓΕΩΡΓΑΚΗΣ

LOCATION:Λεωφ. Μαρίνου Αντύπα και Λεωφ. Σοφοκλή Βενιζέλου, Ηλιούπολη 163 42, Ελλάδα
END:VEVENT

END:VCALENDAR
