BEGIN:VCALENDAR
VERSION:2.0
PRODID:-//hacksw/handcal//NONSGML v1.0//EN
BEGIN:VEVENT
UID:434d5fe1cc5087c9a1d58e33dbc6989b
DTSTAMP:20260421T074548Z

DTSTART:20160605T000000
DTEND:20160605T000000
SUMMARY:Παγκόσμια ημέρα περιβάλλοντος, γιορτάζουμε στην Πικροδάφνη
DESCRIPTION:Κυριακή 5 Ιουνίου, παγκόσμια ημέρα περιβάλλοντος, γιορτάζουμε στην Πικροδάφνη, στο ποτάμι μας!

H γιορτή αυτή περιλαμβάνει:

Έκθεση φωτογραφίας, παιχνίδια, διαδραστικά και μη, για μικρούς και μεγάλους, ζωγραφική και κολάζ για τους μικρούς μας φίλους 
Χορό, από τα χορευτικά συγκροτήματα των συλλόγων Λευκαδίων και Ηπειρωτών Ηλιούπολης, 
Παραδοσιακή μουσική με κλαρίνο, λαγούτο και ντέφι, 
Λαικά και ρεμπέτικα τραγούδια...

Όπως κάθε ελληνική γιορτή, έτσι κι αυτή, θα συνοδευτεί με την απαραίτητη τσικουδιά ή τσίπουρο, διάφορα τσιμπολογήματα, χυμούς και αναψυκτικά.

 
ΕΙΣΟΔΟΣ ΕΛΕΥΘΕΡΗ
LOCATION:
END:VEVENT

END:VCALENDAR
