BEGIN:VCALENDAR
VERSION:2.0
PRODID:-//hacksw/handcal//NONSGML v1.0//EN
BEGIN:VEVENT
UID:2c0a3f3b30b468bbe2b010baa0dc6859
DTSTAMP:20260419T151721Z

DTSTART:20160529T193000
DTEND:20160529T193000
SUMMARY:563η επέτειος της Αλώσεως της Βασιλίδος των Πόλεων Κωνσταντινούπολης
DESCRIPTION:Η ΙΩΝΙΚΗ ΣΤΕΓΗ σας καλεί στην 563η επέτειο της Αλώσεως της Βασιλίδος των Πόλεων Κωνσταντινούπολης στην αίθουσα του Μουσείου Εθνικής Αντίστασης Ηλιούπολης (Σ. Βενιζέλου & Μαρίνου Αντύπα)
την Kυριακή 29 Mαΐου2016 και ώρα 7:30 μ.μ

Το πρόγραμμα περιλαμβάνει: 

• Ομιλία της ∆ρ. Φιλοσοφίας Ε.Κ.Παν/μίου Αθηνών Κωνσταντίνας Παλαμιώτου με θέμα: "Η αξία της ιστορικής μνήμης για τη  διασφάλιση της εθνικής ταυτότητας."
 • Τραγούδια της Πόλης με τη Ζαφειρώ Χατζηφωτίου υψίφωνο 
•  Χοροί της Πόλης με το Χορευτικό τμήμα του "Λαογραφικού ομίλου Ήλιδα" 

Η ΠΡΟΕΔΡΟΣ 
ΠΙΚΟΥΛΑ ΑΡΓΥΡΩ

Η ΓΕΝ. ΓΡΑΜΜΑΤΕΑΣ 
ΛΟΥΖΙΩΤΟΥ ΧΡΙΣΤΙΝΑ
LOCATION:Λεωφ. Μαρίνου Αντύπα και Λεωφ. Σοφοκλή Βενιζέλου, Ηλιούπολη 163 42, Ελλάδα
END:VEVENT

END:VCALENDAR
