BEGIN:VCALENDAR
VERSION:2.0
PRODID:-//hacksw/handcal//NONSGML v1.0//EN
BEGIN:VEVENT
UID:64916c4b429b0845fe341822b6a5b69c
DTSTAMP:20260421T021426Z

DTSTART:20160522T180000
DTEND:20160525T180000
SUMMARY:Πρόσκληση έκθεσης Μιχάλη Αρφαρά
DESCRIPTION:Η Ένωση Καλλιτεχνών και Λογοτεχνών Ηλιούπολης "Το Εργαστήρι", σε συνεργασία με τον Δήμο Ηλιούπολης, οργανώνουν και στηρίζουν την Έκθεση εικαστικών έργων με τίτλο "Εκδρομή στη Φαντασία" στο Μουσείο Εθνικής Αντίστασης Ηλιούπολης (Σοφοκλή Βενιζέλου 100 & Μαρίνου Αντύπα, κεντρική πλατεία Ηλιούπολης).

 Προς τιμή του Καθηγητή και Διευθυντή του Τομέα Χαρακτικής της Ανώτατης Σχολής Καλών Τεχνών Αθηνών κ. Μιχάλη Αρφαρά.
Διάρκεια της Έκθεσης 22-25 Μαϊου 2016.
Η έκθεση είναι επισκέψιμη 6-9 μμ καθημερινά.
(Είσοδος ελεύθερη)

 

    Η Ένωση Καλλιτεχνών &                           Ο Δήμαρχος Ηλιούπολης
   Λογοτεχνών Ηλιούπολης                            Βασίλης Βαλασόπουλος
ο Πρόεδρος Στέλιος Μαρούλης

 
LOCATION:
END:VEVENT

END:VCALENDAR
