BEGIN:VCALENDAR
VERSION:2.0
PRODID:-//hacksw/handcal//NONSGML v1.0//EN
BEGIN:VEVENT
UID:eb88163a254b6fef47a53cbc9a27ab83
DTSTAMP:20260421T021430Z

DTSTART:20160520T203000
DTEND:20160520T203000
SUMMARY:Ο Χαΐνης Δημήτρης Αποστολάκης στο Απρόβλεπτο
DESCRIPTION:Το βιβλιοπωλείο μας και οι εκδόσεις Καστανιώτη
 με αφορμή την κυκλοφορία του βιβλίου
 του Χαΐνη Δημήτρη Αποστολάκη
"Φτου ξελευτερία για όλους!"
σας προσκαλούν την Παρασκευή 20 Μαΐου 2016 
και ώρα 8:30 μ.μ. σε μια συνάντηση με απρόβλεπτη εξέλιξη

 Ο πολύτεκνος καντηλανάφτης βγήκε στην πλατεία του χωριού διατρανώνοντας με ντουντούκα τον έρωτά του για τον εφημέριο της ενορίας του. Ο επιφανής μετεωρολόγος της ΕΜΥ απολύθηκε από την εργασία του γιατί επί δεκαεφτά ώρες χόρευε στον προαύλιο χώρο της υπηρεσίας του τον χορό της βροχής. Ο διοικητής της κεντρικής τράπεζας εγκατέλειψε τη θέση του, ασπάστηκε τον βουδισμό, κατέφυγε στα Μάταλα και επιβιώνει πουλώντας ιδιόχειρα χαϊμαλιά. Η δε πεθερά του υπέστη εγκεφαλική παράλυση και προχώρησε στην ίδρυση πολιτικού κόμματος, το οποίο εμφανίζει υψηλά ποσοστά στις τελευταίες δημοσκοπήσεις. Τέλος, ο βιβλιόφιλος διευθυντής του εθνικού πάρκου αγρίων ζώων, που έχει τη συνήθεια να διαβάζει φωναχτά, παρατήρησε ότι τα ζώα προέβησαν σε απεργία πείνης, προβάλλοντας περίεργα αιτήματα: οι μπαμπουίνοι αξίωναν να παρευρίσκονται σε προεκλογικές συγκεντρώσεις και οι παπαγάλοι να έχουν δικαίωμα συμμετοχής στις πανελλαδικές εξετάσεις. Ο ίδιος ο διευθυντής παντρεύτηκε, με πολιτικό γάμο, ένα πανέμορφο κοάλα που κατέκτησε πρόσφατα τον τίτλο της «Μις Αυστραλία».
LOCATION:Ρήγα Φεραίου 25, Ηλιούπολη 163 43, Ελλάδα
END:VEVENT

END:VCALENDAR
