BEGIN:VCALENDAR
VERSION:2.0
PRODID:-//hacksw/handcal//NONSGML v1.0//EN
BEGIN:VEVENT
UID:d157ff093e5204e906719f6e82ad8842
DTSTAMP:20260419T121803Z

DTSTART:20160519T163000
DTEND:20160519T233000
SUMMARY:Συνεδρίαση του Δημοτικού Συμβουλίου Ηλιούπολης
DESCRIPTION:Σας προσκαλούμε σε τακτική συνεδρίαση του Δημοτικού Συμβουλίου, στις  19 Μαΐου 2016, ημέρα Πέμπτη και ώρα 16:30 στην ειδική αίθουσα συνεδριάσεων του Δημαρχιακού Μεγάρου «Κώστας Κονδύλης» (Σοφοκλή Βενιζέλου 114), με θέματα:

1.	Συζήτηση και λήψη απόφασης για την αξιοποίηση από το Δήμο των Οικοπέδων του Δημοσίου
2.	Ενημέρωση – Συζήτηση για την καθαριότητα στο Δήμο
3.	Τροποποίηση Τεχνικού Προγράμματος
4.	Αναμόρφωση Προϋπολογισμού Δήμου
5.	Αναμόρφωση Προϋπολογισμού του Ν.Π.Δ.Δ. «ΠΑΟΔΗΛ», έτους 2016
6.	Αναμόρφωση Προϋπολογισμού του Ν.Π.Δ.Δ. «Μουσείο Εθνικής Αντίστασης» 
7.	Έγκριση εισηγητικής Έκθεσης Α τρίμηνου 2016
8.	Νομικές δεσμεύσεις, καθορισμός τρόπου εκτέλεσης έργων, προμηθειών, εργασιών, εγκρίσεις μελετών κλπ. της Διεύθυνσης Διοικητικών Υπηρεσιών  
9.	Νομικές δεσμεύσεις, καθορισμός τρόπου εκτέλεσης έργων, προμηθειών, εργασιών, εγκρίσεις μελετών κλπ. της Διεύθυνσης Οικονομικών Υπηρεσιών  
10.	Νομικές δεσμεύσεις, καθορισμός τρόπου εκτέλεσης έργων, προμηθειών, εργασιών, εγκρίσεις μελετών κλπ. της Διεύθυνσης Τεχνικών Υπηρεσιών
11.	Νομικές δεσμεύσεις, καθορισμός τρόπου εκτέλεσης έργων, προμηθειών, εργασιών, εγκρίσεις μελετών κλπ. της Διεύθυνσης Περιβάλλοντος, Ποιότητας Ζωής και Καθαριότητας
12.	Νομικές δεσμεύσεις, καθορισμός τρόπου εκτέλεσης έργων, προμηθειών, εργασιών, εγκρίσεις μελετών κ.λπ. του Αυτοτελούς  τμήματος Πληροφορικής και Επικοινωνιών
13.	Νομικές δεσμεύσεις, καθορισμός τρόπου εκτέλεσης έργων, προμηθειών, εργασιών, εγκρίσεις μελετών κ.λπ. του Αυτοτελούς  τμήματος Αθλητισμού – Πολιτισμού – Νέας Γενιάς και Εξυπηρέτησης του Δημότη
14.	Έγκριση σχεδίου αίτησης εγγραφής- επανεγγραφής δικαιολογητικών και ανακοίνωσης με τους όρους λειτουργίας των  Βρεφονηπιακών Σταθμών Σχολικού Έτους 2016-2017
15.	Αύξηση ωρών εργασίας προσωπικού Ι.Δ.Α.Χ. μερικής απασχόλησης και μετατροπή των συμβάσεών τους σε πλήρους απασχόλησης  
16.	Αποδοχή  και κατανομή επιχορηγούμενων ποσών μέσω ΚΑΠ για την αντιμετώπιση λειτουργικών αναγκών της  Πρωτοβάθμιας εκπαίδευσης
17.	Αποδοχή  και κατανομή επιχορηγούμενων ποσών μέσω Κ.Α.Π. για την αντιμετώπιση λειτουργικών αναγκών της  Δευτεροβάθμιας εκπαίδευσης
18.	Αποδοχή επιχορηγούμενου ποσού για την υλοποίηση του προγράμματος για τον Εθελοντή Σχολικό Τροχονόμο στην πρωτοβάθμια εκπαίδευση 
19.	Λήψη απόφασης για την ανανέωση παραχώρησης χρήσης τμήματος του κτιρίου της Χ.Ε.Ν. για το Ιατρείο Κοινωνικής Αποστολής του Δήμου Ηλιούπολης
20.	Καθορισμός προϋποθέσεων, όρων και διαδικασιών λειτουργίας αγοράς βιολογικών προϊόντων
21.	Λήψη απόφασης σχετικά με την αποδοχή παραχώρησης προς χρήση πυροσβεστικού οχήματος
22.	Έγκριση ή μη αμοιβής δικηγόρων για χειρισμό υποθέσεων του Δήμου Ηλιούπολης
23.	Ορισμός δημοτικού συμβούλου στην επιτροπή καταστροφής αρχείου Κ.Ε.Π., έτους 2013
24.	Έκτακτες Οικονομικές ενισχύσεις
25.	Απαλλαγή οφειλών προς το Δημοτικό Νεκροταφείο του Εμμανουηλίδη Ιωάννη
26.	Διαγραφές από χρηματικούς καταλόγους 
27.	1ος ανακεφαλαιωτικός πίνακας και 1ο Π.Κ.Τ.Μ.Ν.Ε. του έργου «Αναπλάσεις – συντηρήσεις πάρκων –πλατειών» (Α.Μ. 46/2015)
28.	 1ος ανακεφαλαιωτικός πίνακας  του έργου «Κατασκευή εξωτερικών διακλαδώσεων σε δρόμους περιοχής Δ. Ηλιούπολης» (Α.Μ. 11/2015)

Ο Πρόεδρος  του Δημοτικού Συμβουλίου
  Κώστας Γ. Σεφτελής

LOCATION:Λεωφ. Σοφοκλή Βενιζέλου 114, Ηλιούπολη 163 42, Ελλάδα
END:VEVENT

END:VCALENDAR
