BEGIN:VCALENDAR
VERSION:2.0
PRODID:-//hacksw/handcal//NONSGML v1.0//EN
BEGIN:VEVENT
UID:f18149c1e133d0c8ff1e83e8dd24c1e2
DTSTAMP:20260421T021544Z

DTSTART:20160509T001500
DTEND:20160509T001500
SUMMARY:Θεατρική παράσταση 4ου ΓΕΛ Ηλιούπολης
DESCRIPTION:Το 4ο Λύκειο παρουσιάζει τη Δευτέρα 9/5/2016, στις 12 το μεσημέρι, στην αίθουσα εκδηλώσεων του σχολείου, το έργο του Αρκά "Βιολογικός Μετανάστης".
LOCATION:Βάκχου, Ηλιούπολη 163 45, Ελλάδα
END:VEVENT

END:VCALENDAR
