BEGIN:VCALENDAR
VERSION:2.0
PRODID:-//hacksw/handcal//NONSGML v1.0//EN
BEGIN:VEVENT
UID:babd9ce36e2f87f2b619bfca35213bda
DTSTAMP:20260421T021113Z

DTSTART:20160604T203000
DTEND:20160604T203000
SUMMARY:Η Αθήνα της Καντάδας
DESCRIPTION:Το Σάββατο 4 Ιουνίου το βράδυ στο ανοικτό Δημοτικό θέατρο Δ. Κιντής στην Ηλιούπολη, με σύνθημα  Ενώνουμε τις δυνάμεις μας και αντιστεκόμαστε στην κρίση, εννέα Πολιτιστικοί φορείς της πόλης μας διοργανώνουμε Συναυλία Αλληλεγγύης & Αγάπης και συγκεντρώνουμε τρόφιμα για να στηρίξουμε τους άπορους συνδημότες μας.
Μια μουσική και ιστορική περιήγηση στην «Αθήνα της καντάδας» από τις ΣΥΝΕΡΓΑΣΙΕΣ ΠΟΛΗΣ με τη «Μαντολινάτα  «Η Παναρμόνια» 
Σας περιμένουμε

LOCATION:
END:VEVENT

END:VCALENDAR
