BEGIN:VCALENDAR
VERSION:2.0
PRODID:-//hacksw/handcal//NONSGML v1.0//EN
BEGIN:VEVENT
UID:f53cc5a9111fb7b01c8638408ec2f428
DTSTAMP:20260420T025514Z

DTSTART:20160416T100000
DTEND:20160417T180000
SUMMARY:ΠΑΣΧΑΛΙΝΟ BAZAAR ΑΓΑΠΗΣ ΕΡΥΘΡΟΥ ΣΤΑΥΡΟΥ
DESCRIPTION:Η ΠΕΡΙΦΕΡΕΙΑΚΗ ΕΠΙΤΡΟΠΗ ΤΟΥ ΕΛΛΗΝΙΚΟΥ ΕΡΥΘΡΟΥ ΣΤΑΥΡΟΥ ΔΙΟΡΓΑΝΩΝΕΙ ΠΑΣΧΑΛΙΝΟ BAZAAR ΑΓΑΠΗΣ 16-17 ΑΠΡΙΛΙΟΥ 2016 ΜΕ ΑΝΤΑΛΛΑΓΗ ΤΡΟΦΙΜΩΝ ΣΟΦΟΚΛΗ ΒΕΝΙΖΕΛΟΥ ΑΡΙΘ.61(ΠΛΑΤΕΙΑ 25ης ΜΑΡΤΙΟΥ ΑΡΙΘ.7) ΗΛΙΟΥΠΟΛΗ ΚΑΙ ΩΡΕΣ 10:30 - 18:00
Σας περιμένουμε!!! Το Δ.Σ.
ΚΑΛΟ ΠΑΣΧΑ!!!
LOCATION:25ης Μαρτίου, Ηλιούπολη, Ελλάδα
END:VEVENT

END:VCALENDAR
