BEGIN:VCALENDAR
VERSION:2.0
PRODID:-//hacksw/handcal//NONSGML v1.0//EN
BEGIN:VEVENT
UID:6989c1a7982055df91a8618d2c0f7051
DTSTAMP:20260421T021552Z

DTSTART:20160420T200000
DTEND:20160420T200000
SUMMARY:Θεατρική παράσταση 2ου Γυμνασίου Ηλιούπολης
DESCRIPTION:Η πολιτιστική ομάδα του 2ου Γυμνασίου Ηλιούπολης
και ο Δήμος Ηλιούπολης

σας προσκαλoύν στην θεατρική παράσταση
Αλέξανδρου Παπαδιαμάντη: «Το μοιρολόγι της φώκιας»
&
Μαχμούντ Νταρουίς : «Το φαινόμενο της πεταλούδας»


LOCATION:
END:VEVENT

END:VCALENDAR
