BEGIN:VCALENDAR
VERSION:2.0
PRODID:-//hacksw/handcal//NONSGML v1.0//EN
BEGIN:VEVENT
UID:3fe6dd8c2dda2756ff1570106b04a208
DTSTAMP:20260421T021904Z

DTSTART:20160412T203000
DTEND:20160412T203000
SUMMARY:3ο φεστιβάλ Πολιτισμού και Αλληλεγγύης - θεατρική παράσταση "Για τα μάτια της Έλσας"
DESCRIPTION:Θεατρικής παράσταση της Αθηνάς Κεφαλά "Για τα μάτια της Έλσας"
Νατάσα Κρητικού, Σέβη Στάϊκου, Χ.Συμεωνίδου, Μ. Κωστόπουλος.


LOCATION:
END:VEVENT

END:VCALENDAR
