BEGIN:VCALENDAR
VERSION:2.0
PRODID:-//hacksw/handcal//NONSGML v1.0//EN
BEGIN:VEVENT
UID:be264b981d0326996598aec8120b88dc
DTSTAMP:20260421T023818Z

DTSTART:20160411T210000
DTEND:20160411T210000
SUMMARY:3ο φεστιβάλ Πολιτισμού και Αλληλεγγύης - θεατρική παράσταση "Mea Culpa"
DESCRIPTION:Θεατρική Παράσταση "Mea Culpa" από την Ομάδα ΚΙΝΗΤΡΟΝ στο θέατρο του Δημαρχιακού Μεγάρου
LOCATION:
END:VEVENT

END:VCALENDAR
