BEGIN:VCALENDAR
VERSION:2.0
PRODID:-//hacksw/handcal//NONSGML v1.0//EN
BEGIN:VEVENT
UID:ef4c6eb05d15b6869274479e79fa12e3
DTSTAMP:20260421T021204Z

DTSTART:20160422T203000
DTEND:20160422T203000
SUMMARY:Ο Δημοσθένης Παπαμάρκος στο Απρόβλεπτο
DESCRIPTION:Το βιβλιοπωλείο Απρόβλεπτο και οι εκδόσεις Αντίποδες σας προσκαλούν
την Παρασκευή 22 Απριλίου 2016 στις 8:30 μ.μ.
σε μια συζήτηση για το "Γκιακ" με τον συγγραφέα Δημοσθένη Παπαμάρκο

Οι ήρωες αυτών των διηγημάτων, στρατιώτες που πολέμησαν στη μικρασιατική εκστρατεία, έρχονται αντιμέτωποι με τους ρόλους που τους επιβάλλουν οι παραδοσιακοί κανόνες και το βίωμα του πολέμου. Συγκρούονται, υποτάσσονται, ζουν εν κρυπτώ ή φεύγουν.

Το γκιακ είναι το αίμα, ο συγγενικός δεσμός και ο νόμος του αίματος που σκιάζει τις ζωές τους. Με έναν τραχύ προφορικό λόγο, οι ιστορίες τους αφηγούνται την απώλεια προσανατολισμού, την αδυναμία τους να συμβιβάσουν τους κώδικες της παράδοσης με τα συναισθήματα και τη συνείδησή τους.

Βιβλιοπωλείο Απρόβλεπτο, Ρήγα Φεραίου 25, Ηλιούπολη, τηλ. 210 99 40 110
LOCATION:Ρήγα Φεραίου 25, Ηλιούπολη 163 43, Ελλάδα
END:VEVENT

END:VCALENDAR
