BEGIN:VCALENDAR
VERSION:2.0
PRODID:-//hacksw/handcal//NONSGML v1.0//EN
BEGIN:VEVENT
UID:78ca72221b29491d499e9cad724d2c6c
DTSTAMP:20260421T004624Z

DTSTART:20160417T000000
DTEND:20160417T000000
SUMMARY: Μονοήμερη εκδρομή στο Ναύπλιο
DESCRIPTION:Ο σύλλογος Κρητών, διοργανώνει μονοήμερη (1 μερη) εκδρομή στο Ναύπλιο.(Ναύπλιο, Μπούρτζι, Παλαμήδι, Κεφαλάρι)
στις 17/04/2016 ημέρα Κυριακή.

Ώρα αναχώρησης 09:00 από την πλατεία Ι.Κ.Α.
(ΠΕΡΙΟΡΙΣΜΕΝΟΣ ΑΡΙΘΜΟΣ ΘΕΣΕΩΝ)
Αναψυχή – γνώση – ευθυμία – διασκέδαση

Τηλ. επικοινωνίας 6980083160 - 6945870848 -6973838666
 
Σύλλογος Κρητών Ηλιούπολης "Η ΚΡΗΤΗ"


Αριάδνης 10. 16345 Ηλιούπολη
210 9752447
Email: syllogoskritonilioupolis@yahoo.gr

LOCATION:
END:VEVENT

END:VCALENDAR
