BEGIN:VCALENDAR
VERSION:2.0
PRODID:-//hacksw/handcal//NONSGML v1.0//EN
BEGIN:VEVENT
UID:5ed28914fc7fb9d31b4206cf105cd41a
DTSTAMP:20260421T074548Z

DTSTART:20160410T000000
DTEND:20160417T000000
SUMMARY:ΠΡΟΣΚΗΝΗΜΑΤΙΚΕΣ ΕΚΔΡΟΜΕΣ ΑΠΟ ΤΗΝ ΕΝΟΡΙΑ ΑΓΙΑ ΜΑΡΙΝΑ
DESCRIPTION:Κυριακὴ 10/4, Σταυροπηγιακὴ Μονὴ Ἁγίας Παρασκευῆς Μάζι Μεγάρων
Κυριακὴ 17/4, Μονὴ Ἁγίου Ἰωάννου Μαζαράκι Θηβῶν.
Ἀναχώρηση 14:00. Τιμὴ συμμετοχῆς €10,00
Δηλῶστε συμμετοχὴ στὸ νεωκόρο 210 97 11 531.
LOCATION:
END:VEVENT

END:VCALENDAR
